BEGIN:VCALENDAR
VERSION:2.0
PRODID:-//Squarespace Inc/Squarespace 6//v6//EN
BEGIN:VEVENT
UID:5dbf4d5cbcfc042fbccd7be7@squarespace.com
DTSTAMP:20191103T220448Z
DTSTART:20201007T220000Z
DTEND:20201007T230000Z
SUMMARY:On the 20th of each month\, we send student earned Bronze\, Silver\
 , Gold pins to your School
END:VEVENT
END:VCALENDAR
