BEGIN:VCALENDAR
VERSION:2.0
PRODID:-//Squarespace Inc/Squarespace 6//v6//EN
BEGIN:VEVENT
UID:5a34c5a88165f5e58a65a8ae@squarespace.com
DTSTAMP:20171228T004631Z
DTSTART:20180925T200000Z
DTEND:20180928T090000Z
SUMMARY:Visit us at NZPF 2018
END:VEVENT
END:VCALENDAR
