BEGIN:VCALENDAR
VERSION:2.0
PRODID:-//Squarespace Inc/Squarespace 6//v6//EN
BEGIN:VEVENT
UID:5a8a412224a694d707ee0055@squarespace.com
DTSTAMP:20180911T045431Z
DTSTART:20180928T030000Z
DTEND:20181005T040000Z
SUMMARY:Electricity Kit Content Due
END:VEVENT
END:VCALENDAR
