BEGIN:VCALENDAR
VERSION:2.0
PRODID:-//Squarespace Inc/Squarespace 6//v6//EN
BEGIN:VEVENT
UID:5a34c4f453450a1651bf4038@squarespace.com
DTSTAMP:20180911T045528Z
DTSTART:20181009T193000Z
DTEND:20181012T083000Z
SUMMARY:Visit us at Ulearn18 
END:VEVENT
END:VCALENDAR
